BEGIN:VCALENDAR
VERSION:2.0
PRODID:-//ChamberMaster//Event Calendar 2.0//EN
METHOD:PUBLISH
X-PUBLISHED-TTL:P3D
REFRESH-INTERVAL:P3D
CALSCALE:GREGORIAN
BEGIN:VEVENT
DTSTART:20260414T013000Z
DTEND:20260414T030000Z
X-MICROSOFT-CDO-ALLDAYEVENT:FALSE
SUMMARY:7-Week Transformational Weight Loss Journey: Mindset\, Habits & Hypnosis
DESCRIPTION:Are you ready to finally transform your relationship with food\, your body\, and yourself?\n\nJoin me\, Kerstin Teller\, Certified Clinical Hypnotherapist\, for a 7-week guided weight loss journey that combines hypnosis\, meditation\, emotional healing\, and practical tools you can use for a lifetime. This isn't about fad diets or quick fixes it's about creating lasting transformation from the inside out.\n\nOver 7 weeks\, we'll meet online for 90-minute sessions designed to:\n\n\n	\n	Reprogram your subconscious mind for weight loss and healthy habits\n	\n	\n	Heal emotional eating patterns and reconnect with your inner wisdom\n	\n	\n	Build confidence\, self-love\, and a positive body mindset\n	\n	\n	Teach tools like self-hypnosis\, EFT\, and mindfulness techniques for lifelong success\n	\n\n\nYou'll leave the program with practical\, easy-to-use tools you can use every day and a new mindset that supports your health and wellness goals.\n\n\nWhat You'll Experience Each Week:\n\nSession 1   Feel Goal Accomplished\n\nLearn how hypnosis works and how your mind impacts your results. Guided hypnosis to experience your goals as already achieved\, planting the seed for success.\n\nSession 2   Changing Eating Patterns & Moving More\n\nUnderstand blood sugar\, eating patterns\, and movement. Hypnosis reinforces healthy eating habits and joyful activity.\n\nSession 3   Emotional Eating & Anchoring Relaxation\n\nIdentify emotional triggers around food. Learn how to release stress and anchor calm\, so cravings no longer control you.\n\nSession 4   Inner Child & Self-Love\n\nReconnect with your inner child and build self-love. Hypnosis strengthens compassion\, kindness\, and nurturing toward yourself.\n\nSession 5   Releasing the Old & Gaining Inner Strength\n\nLet go of limiting beliefs and past patterns. Hypnosis supports confidence\, inner strength\, and self-belief.\n\nSession 6   Empowerment & Connection with Inner Wisdom\n\nLearn to trust your intuition and feel empowered in your choices. Guided meditation reinforces clarity\, comfort\, and self-trust.\n\nSession 7   Better Sleep for Success\n\nHypnosis for deep\, restorative sleep\, supporting metabolism\, cravings\, and emotional balance.\n\n\nLifetime Tools You'll Receive:\n\n\n	\n	Step-by-step self-hypnosis techniques\n	\n	\n	EFT (Emotional Freedom Technique) for emotional regulation\n	\n	\n	Mindful eating strategies\n	\n	\n	Guided meditations for motivation\, confidence\, and habit formation\n	\n	\n	Practical tools you can use every day for life\n	\n\n\n\nWho This Program is For:\n\n\n	\n	Anyone who struggles with emotional eating or cravings\n	\n	\n	People ready to create lasting habits and mindset shifts\n	\n	\n	Those who want support\, guidance\, and accountability in a safe group setting\n	\n	\n	Individuals who want tools they can use long after the program ends\n	\n\n\n\nWhen & Where:\n\nDates: 7 consecutive weeks\, starting Monday 4/13/26\n\nDay: Mondays\, 90-minute sessions 6:30 pm- 8:00 pm PST.\n\nLocation: Online via Zoom (link provided upon registration)\n\n\nInvestment:\n\n$333 for 7 transformative sessions\n\nOptional: Payment plan available: 2 payments of $167\n\n\nWhy This Program Works:\n\nUnlike typical diet programs\, this journey focuses on mindset\, emotional release\, and subconscious reprogramming helping you create lasting change without willpower struggles. You'll leave empowered\, confident\, and equipped with tools for life.\n\n\nRegister Now\n\nSpaces are limited to keep the group intimate and supportive. Claim your spot today and begin your 7-week transformation.\n\nEmail me directly at contact@angelic-guidance-hypnotherapy.com or register here:\n\n7-Week Transformational Weight Loss Journey: Mindset\, Habits & Hypnosis Tickets\, Monday\, Apr 13 from 6:30 pm to 8 pm PDT | Eventbrite
X-ALT-DESC;FMTTYPE=text/html:<p>Are you ready to finally <strong>transform your relationship with food\, your body\, and yourself</strong>?</p>\n\n<p>Join me\, <strong>Kerstin Teller</strong>\, Certified Clinical Hypnotherapist\, for a <strong>7-week guided weight loss journey</strong> that combines <strong>hypnosis\, meditation\, emotional healing\, and practical tools</strong> you can use for a lifetime. This isn&rsquo\;t about fad diets or quick fixes&mdash\;it&rsquo\;s about creating <strong>lasting transformation from the inside out</strong>.</p>\n\n<p>Over 7 weeks\, we&rsquo\;ll meet online for <strong>90-minute sessions</strong> designed to:</p>\n\n<ul>\n	<li>\n	<p>Reprogram your subconscious mind for weight loss and healthy habits</p>\n	</li>\n	<li>\n	<p>Heal emotional eating patterns and reconnect with your inner wisdom</p>\n	</li>\n	<li>\n	<p>Build confidence\, self-love\, and a positive body mindset</p>\n	</li>\n	<li>\n	<p>Teach tools like <strong>self-hypnosis\, EFT\, and mindfulness techniques</strong> for lifelong success</p>\n	</li>\n</ul>\n\n<p>You&rsquo\;ll leave the program with <strong>practical\, easy-to-use tools</strong> you can use every day&mdash\;and a new mindset that supports your health and wellness goals.</p>\n\n<hr />\n<h1><strong>What You&rsquo\;ll Experience Each Week:</strong></h1>\n\n<p><strong>Session 1 &ndash\; Feel Goal Accomplished</strong><br />\nLearn how <strong>hypnosis works</strong> and how your mind impacts your results. Guided hypnosis to <strong>experience your goals as already achieved</strong>\, planting the seed for success.</p>\n\n<p><strong>Session 2 &ndash\; Changing Eating Patterns &amp\; Moving More</strong><br />\nUnderstand blood sugar\, eating patterns\, and movement. Hypnosis reinforces <strong>healthy eating habits and joyful activity</strong>.</p>\n\n<p><strong>Session 3 &ndash\; Emotional Eating &amp\; Anchoring Relaxation</strong><br />\nIdentify emotional triggers around food. Learn how to <strong>release stress and anchor calm</strong>\, so cravings no longer control you.</p>\n\n<p><strong>Session 4 &ndash\; Inner Child &amp\; Self-Love</strong><br />\nReconnect with your inner child and build self-love. Hypnosis strengthens <strong>compassion\, kindness\, and nurturing toward yourself</strong>.</p>\n\n<p><strong>Session 5 &ndash\; Releasing the Old &amp\; Gaining Inner Strength</strong><br />\nLet go of limiting beliefs and past patterns. Hypnosis supports <strong>confidence\, inner strength\, and self-belief</strong>.</p>\n\n<p><strong>Session 6 &ndash\; Empowerment &amp\; Connection with Inner Wisdom</strong><br />\nLearn to <strong>trust your intuition</strong> and feel empowered in your choices. Guided meditation reinforces <strong>clarity\, comfort\, and self-trust</strong>.</p>\n\n<p><strong>Session 7 &ndash\; Better Sleep for Success</strong><br />\nHypnosis for <strong>deep\, restorative sleep</strong>\, supporting metabolism\, cravings\, and emotional balance.</p>\n\n<hr />\n<h1><strong>Lifetime Tools You&rsquo\;ll Receive:</strong></h1>\n\n<ul>\n	<li>\n	<p>Step-by-step <strong>self-hypnosis techniques</strong></p>\n	</li>\n	<li>\n	<p><strong>EFT (Emotional Freedom Technique)</strong> for emotional regulation</p>\n	</li>\n	<li>\n	<p>Mindful eating strategies</p>\n	</li>\n	<li>\n	<p>Guided meditations for motivation\, confidence\, and habit formation</p>\n	</li>\n	<li>\n	<p>Practical tools you can use <strong>every day for life</strong></p>\n	</li>\n</ul>\n\n<hr />\n<h1><strong>Who This Program is For:</strong></h1>\n\n<ul>\n	<li>\n	<p>Anyone who struggles with emotional eating or cravings</p>\n	</li>\n	<li>\n	<p>People ready to create <strong>lasting habits and mindset shifts</strong></p>\n	</li>\n	<li>\n	<p>Those who want <strong>support\, guidance\, and accountability</strong> in a safe group setting</p>\n	</li>\n	<li>\n	<p>Individuals who want tools they can <strong>use long after the program ends</strong></p>\n	</li>\n</ul>\n\n<hr />\n<h1><strong>When &amp\; Where:</strong></h1>\n\n<p><strong>Dates:</strong> 7 consecutive weeks\, starting Monday 4/13/26</p>\n\n<p><strong>Day:</strong> Mondays\, 90-minute sessions 6:30 pm- 8:00 pm PST.</p>\n\n<p><strong>Location:</strong> Online via Zoom (link provided upon registration)</p>\n\n<hr />\n<h1><strong>Investment:</strong></h1>\n\n<p><strong>$333</strong> for 7 transformative sessions<br />\nOptional: Payment plan available: 2 payments of $167</p>\n\n<hr />\n<h1><strong>Why This Program Works:</strong></h1>\n\n<p>Unlike typical diet programs\, this journey focuses on <strong>mindset\, emotional release\, and subconscious reprogramming</strong>&mdash\;helping you create <strong>lasting change without willpower struggles</strong>. You&rsquo\;ll leave empowered\, confident\, and equipped with tools for life.</p>\n\n<hr />\n<h1><strong>Register Now</strong></h1>\n\n<p>Spaces are limited to keep the group intimate and supportive. Claim your spot today and begin your <strong>7-week transformation</strong>.</p>\n\n<p>Email me directly at contact@angelic-guidance-hypnotherapy.com or register here:</p>\n\n<p><a href="https://www.eventbrite.com/e/7-week-transformational-weight-loss-journey-mindset-habits-hypnosis-tickets-1984701013157?aff=oddtdtcreator&amp\;keep_tld=true">7-Week Transformational Weight Loss Journey: Mindset\, Habits &amp\; Hypnosis Tickets\, Monday\, Apr 13 from 6:30 pm to 8 pm PDT | Eventbrite</a></p>\n\n<p>&nbsp\;</p>\n\n<p>&nbsp\;</p>\n
LOCATION:Live Online on Zoom.
UID:e.2149.18458
SEQUENCE:3
DTSTAMP:20260425T233505Z
URL:https://business.glendora-chamber.org/events/details/7-week-transformational-weight-loss-journey-mindset-habits-hypnosis-18458
END:VEVENT

END:VCALENDAR
