BEGIN:VCALENDAR
VERSION:2.0
PRODID:-//ChamberMaster//Event Calendar 2.0//EN
METHOD:PUBLISH
X-PUBLISHED-TTL:P3D
REFRESH-INTERVAL:P3D
CALSCALE:GREGORIAN
BEGIN:VEVENT
DTSTART:20240427T190000Z
DTEND:20240427T210000Z
X-MICROSOFT-CDO-ALLDAYEVENT:FALSE
SUMMARY:Aerial Arts Meets STEM Robotics
DESCRIPTION:Free parent and me event. Students and parents will be able to try the amazing circus arts at The Yoga Dance Co\, as well as the fun of STEM Robotics at Sylvan.
X-ALT-DESC;FMTTYPE=text/html:Free parent and me event. Students and parents will be able to try the amazing circus arts at The Yoga Dance Co\, as well as the fun of STEM Robotics at Sylvan.&nbsp\;
LOCATION:The Yoga Dance Co Sylvan Learning Center The Glendora Promenade
UID:e.2149.15046
SEQUENCE:3
DTSTAMP:20260423T071052Z
URL:https://business.glendora-chamber.org/events/details/aerial-arts-meets-stem-robotics-15046
END:VEVENT

END:VCALENDAR
