BEGIN:VCALENDAR
VERSION:2.0
PRODID:-//ChamberMaster//Event Calendar 2.0//EN
METHOD:PUBLISH
X-PUBLISHED-TTL:P3D
REFRESH-INTERVAL:P3D
CALSCALE:GREGORIAN
BEGIN:VEVENT
DTSTART:20201202T170000Z
DTEND:20201202T181500Z
X-MICROSOFT-CDO-ALLDAYEVENT:FALSE
SUMMARY:Ambassador Meeting
DESCRIPTION:Glendora Chamber Ambassador Meeting\n\n\n\nJoin Zoom Meeting\n\nhttps://us02web.zoom.us/j/85659498717?pwd=L0JzMXplZEh6VXBhTEVzb0tkRzFOdz09\n\n\n\nMeeting ID: 856 5949 8717\n\nPasscode: 599164\n\nOne tap mobile\n\n+16699006833\,\,85659498717#\,\,\,\,\,\,0#\,\,599164# US (San Jose)
X-ALT-DESC;FMTTYPE=text/html:Glendora Chamber Ambassador Meeting<br />\n<br />\nJoin Zoom Meeting<br />\n<a href="https://us02web.zoom.us/j/85659498717?pwd=L0JzMXplZEh6VXBhTEVzb0tkRzFOdz09">https://us02web.zoom.us/j/85659498717?pwd=L0JzMXplZEh6VXBhTEVzb0tkRzFOdz09</a><br />\n<br />\nMeeting ID: 856 5949 8717<br />\nPasscode: 599164<br />\nOne tap mobile<br />\n+16699006833\,\,85659498717#\,\,\,\,\,\,0#\,\,599164# US (San Jose)
LOCATION:ZOOM
UID:e.2149.798
SEQUENCE:3
DTSTAMP:20260422T050319Z
URL:https://business.glendora-chamber.org/events/details/ambassador-meeting-12-02-2020-798
END:VEVENT

END:VCALENDAR
