BEGIN:VCALENDAR
VERSION:2.0
PRODID:-//ChamberMaster//Event Calendar 2.0//EN
METHOD:PUBLISH
X-PUBLISHED-TTL:P3D
REFRESH-INTERVAL:P3D
CALSCALE:GREGORIAN
BEGIN:VEVENT
DTSTART:20230303T160000Z
DTEND:20230303T170000Z
X-MICROSOFT-CDO-ALLDAYEVENT:FALSE
SUMMARY:Business Buzz
DESCRIPTION:The Glendora Chamber's monthly morning networking mixer is a fun & engaging opportunity to meet other members\, make business connections\, and learn about what is going on around town. Please Join Us!\n\n\n\nLocation: The Red Lounge next door to the Chamber office.
X-ALT-DESC;FMTTYPE=text/html:<p><span style="font-size:18px\;"><span background-color:="" font-size:="" style="box-sizing: border-box\; margin: 0px\; padding: 0px\; border: 0px\; outline: 0px\; text-size-adjust: 100%\; vertical-align: baseline\; background-image: initial\; background-position: initial\; background-size: initial\; background-repeat: initial\; background-attachment: initial\; background-origin: initial\; background-clip: initial\; font-family: helvetica\, arial\, sans-serif\;" trebuchet="">The Glendora Chamber&#39\;s monthly morning networking mixer is a fun &amp\; engaging opportunity to meet other members\,&nbsp\;make business connections\, and learn about what is going on around town. <strong>Please&nbsp\;</strong></span><strong><span background-color:="" font-size:="" style="box-sizing: border-box\; margin: 0px\; padding: 0px\; border: 0px\; outline: 0px\; text-size-adjust: 100%\; vertical-align: baseline\; background-image: initial\; background-position: initial\; background-size: initial\; background-repeat: initial\; background-attachment: initial\; background-origin: initial\; background-clip: initial\; font-family: helvetica\, arial\, sans-serif\;" trebuchet="">Join Us!<br />\n<br />\nLocation: <em>The Red Lounge</em> </span></strong><span background-color:="" font-size:="" style="box-sizing: border-box\; margin: 0px\; padding: 0px\; border: 0px\; outline: 0px\; text-size-adjust: 100%\; vertical-align: baseline\; background-image: initial\; background-position: initial\; background-size: initial\; background-repeat: initial\; background-attachment: initial\; background-origin: initial\; background-clip: initial\; font-family: helvetica\, arial\, sans-serif\;" trebuchet="">next door to the Chamber office.&nbsp\;</span></span></p>\n
LOCATION:
UID:e.2149.13649
SEQUENCE:3
DTSTAMP:20260420T145201Z
URL:https://business.glendora-chamber.org/events/details/business-buzz-13649
END:VEVENT

END:VCALENDAR
