BEGIN:VCALENDAR
VERSION:2.0
PRODID:-//ChamberMaster//Event Calendar 2.0//EN
METHOD:PUBLISH
X-PUBLISHED-TTL:P3D
REFRESH-INTERVAL:P3D
CALSCALE:GREGORIAN
BEGIN:VEVENT
DTSTART:20231201T160000Z
DTEND:20231201T170000Z
X-MICROSOFT-CDO-ALLDAYEVENT:FALSE
SUMMARY:Business Buzz...Coffee Mixer
DESCRIPTION:Come and be part of the excitement at Glendora Chamber's monthly morning networking mixer! It's an enjoyable and interactive event where you can connect with fellow members and forge valuable business relationships. We invite you to join us and make the most of this fantastic opportunity!\n\n\n\nMIXER LOCATION:\n\nGlendora Library Friends Foundation\n\nGlendora Public Library\n\n140 S. Glendora Ave.\n\nGlendora\, CA 91741
X-ALT-DESC;FMTTYPE=text/html:<p><span style="font-size:18px\;">Come and be part of the excitement at Glendora Chamber&#39\;s monthly morning networking mixer! It&#39\;s an enjoyable and interactive event where you can connect with fellow members and forge valuable business relationships. We invite you to join us and make the most of this fantastic opportunity!<br />\n<br />\n<u><em>MIXER&nbsp\;LOCATION:</em></u></span><br />\n<span style="font-size: 16px\;">Glendora Library Friends Foundation<br />\nGlendora Public Library<br />\n140 S. Glendora Ave.</span><br />\n<span style="font-size: 16px\;">Glendora\, CA 91741</span></p>\n
LOCATION:Glendora Library Friends Foundation Glendora Public Library 140 S. Glendora Ave. Glendora\, CA 91741
UID:e.2149.14760
SEQUENCE:3
DTSTAMP:20260419T233116Z
URL:https://business.glendora-chamber.org/events/details/business-buzz-coffee-mixer-12-01-2023-14760
END:VEVENT

END:VCALENDAR
