BEGIN:VCALENDAR
VERSION:2.0
PRODID:-//ChamberMaster//Event Calendar 2.0//EN
METHOD:PUBLISH
X-PUBLISHED-TTL:P3D
REFRESH-INTERVAL:P3D
CALSCALE:GREGORIAN
BEGIN:VEVENT
DTSTART:20230106T160000Z
DTEND:20230106T170000Z
X-MICROSOFT-CDO-ALLDAYEVENT:FALSE
SUMMARY:Business Buzz - Dark
DESCRIPTION:No Business Buzz this Month\n\nHAPPY NEW YEAR!!!
X-ALT-DESC;FMTTYPE=text/html:<p><span style="font-size:18px\;"><span style="color:#FF0000\;"><strong>No Business Buzz this Month</strong></span></span></p>\n\n<p><span style="font-size:16px\;"><strong>HAPPY NEW YEAR!!!&nbsp\;</strong></span><br />\n<br />\n<br />\n&nbsp\;</p>\n
LOCATION:
UID:e.2149.12358
SEQUENCE:3
DTSTAMP:20260420T175357Z
URL:https://business.glendora-chamber.org/events/details/business-buzz-dark-01-06-2023-12358
END:VEVENT

END:VCALENDAR
