BEGIN:VCALENDAR
VERSION:2.0
PRODID:-//ChamberMaster//Event Calendar 2.0//EN
METHOD:PUBLISH
X-PUBLISHED-TTL:P3D
REFRESH-INTERVAL:P3D
CALSCALE:GREGORIAN
BEGIN:VEVENT
DTSTART:20230203T160000Z
DTEND:20230203T170000Z
X-MICROSOFT-CDO-ALLDAYEVENT:FALSE
SUMMARY:Business Buzz - February
DESCRIPTION:The Glendora Chamber's monthly morning networking mixer is a fun & engaging opportunity to meet other members\, make business connections\, and learn about what is going on around town. Please Join Us! \n\n\n\nOur Spotlight Speaker is: Ken Salzman of SanzMan Productions
X-ALT-DESC;FMTTYPE=text/html:<p><span style="font-size:18px\;"><span background-color:="" font-size:="" style="box-sizing: border-box\; margin: 0px\; padding: 0px\; border: 0px\; outline: 0px\; text-size-adjust: 100%\; vertical-align: baseline\; background-image: initial\; background-position: initial\; background-size: initial\; background-repeat: initial\; background-attachment: initial\; background-origin: initial\; background-clip: initial\; font-family: helvetica\, arial\, sans-serif\;" trebuchet="">The Glendora Chamber&#39\;s monthly morning networking mixer is a fun &amp\; engaging opportunity to meet other members\,&nbsp\;make business connections\, and learn about what is going on around town. <strong>Please&nbsp\;</strong></span><strong><span background-color:="" font-size:="" style="box-sizing: border-box\; margin: 0px\; padding: 0px\; border: 0px\; outline: 0px\; text-size-adjust: 100%\; vertical-align: baseline\; background-image: initial\; background-position: initial\; background-size: initial\; background-repeat: initial\; background-attachment: initial\; background-origin: initial\; background-clip: initial\; font-family: helvetica\, arial\, sans-serif\;" trebuchet="">Join Us!&nbsp\;</span></strong><br />\n<br />\n<strong><span style="font-family: helvetica\, arial\, sans-serif\;">Our Spotlight Speaker is: <a href="https://business.glendora-chamber.org/list/member/sanzman-productions-murder-mysteries-488">Ken Salzman of SanzMan Productions&nbsp\;</a></span></strong></span></p>\n
LOCATION:Glendora Chamber Office 224 N. Glendora Ave. Glendora\, CA 91740
UID:e.2149.13173
SEQUENCE:3
DTSTAMP:20260420T161348Z
URL:https://business.glendora-chamber.org/events/details/business-buzz-february-13173
END:VEVENT

END:VCALENDAR
