BEGIN:VCALENDAR
VERSION:2.0
PRODID:-//ChamberMaster//Event Calendar 2.0//EN
METHOD:PUBLISH
X-PUBLISHED-TTL:P3D
REFRESH-INTERVAL:P3D
CALSCALE:GREGORIAN
BEGIN:VEVENT
DTSTART:20240810T170000Z
DTEND:20240810T190000Z
X-MICROSOFT-CDO-ALLDAYEVENT:FALSE
SUMMARY:Business Exchange Network
DESCRIPTION:Business Exchange Network Hosted by Armando at Super Mortgage Bros.
X-ALT-DESC;FMTTYPE=text/html:<span style="font-size:14px\;"><strong>Business Exchange Network Hosted by Armando at Super Mortgage Bros.</strong></span>
LOCATION:1900 W. Garvey Ave S #100 West Covina\, CA 91790
UID:e.2149.15443
SEQUENCE:3
DTSTAMP:20260423T143110Z
URL:https://business.glendora-chamber.org/events/details/business-exchange-network-15443
END:VEVENT

END:VCALENDAR
