BEGIN:VCALENDAR
VERSION:2.0
PRODID:-//ChamberMaster//Event Calendar 2.0//EN
METHOD:PUBLISH
X-PUBLISHED-TTL:P3D
REFRESH-INTERVAL:P3D
CALSCALE:GREGORIAN
BEGIN:VEVENT
DTSTART:20230403T170000Z
DTEND:20230403T230000Z
X-MICROSOFT-CDO-ALLDAYEVENT:FALSE
SUMMARY:Camp Cahuilla - Spring Break Edition
DESCRIPTION:Day Camp is conducted in Big Dalton Canyon and features nature hikes\, camp crafts\, archery\, skits\, and cmap songs\, in and around rustic cabin. Fee includes camp shirt. Campers will bring their own lunches to camp each day. Child must be in at least 1st grade. No open toe shoes will be allowed at camp. Tennis shoes are highly recommended. There will be no bus transportation this Spring. Parents will drop off at the camp cabin located at the end of Big Dalton Canyon Rd.\n\nFor more information please call (626) 914-2357 or (626) 914-8228
X-ALT-DESC;FMTTYPE=text/html:<p>Day Camp is conducted in Big Dalton Canyon and features nature hikes\, camp crafts\, archery\, skits\, and cmap songs\, in and around rustic cabin. Fee includes camp shirt. Campers will bring their own lunches to camp each day. Child must be in at least 1st grade. No open toe shoes will be allowed at camp. Tennis shoes are highly recommended. There will be no bus transportation this Spring. Parents will drop off at the camp cabin located at the end of Big Dalton Canyon Rd.</p>\n\n<p>For more information please call (626) 914-2357 or (626) 914-8228</p>\n
LOCATION:Big Dalton Canyon Wilderness Park 2011 Big Dalton Canyon Rd Glendora\, CA 91741
UID:e.2149.13220
SEQUENCE:3
DTSTAMP:20260421T161350Z
URL:https://business.glendora-chamber.org/events/details/camp-cahuilla-spring-break-edition-04-03-2023-13220
END:VEVENT

END:VCALENDAR
