BEGIN:VCALENDAR
VERSION:2.0
PRODID:-//ChamberMaster//Event Calendar 2.0//EN
METHOD:PUBLISH
X-PUBLISHED-TTL:P3D
REFRESH-INTERVAL:P3D
CALSCALE:GREGORIAN
BEGIN:VEVENT
DTSTART:20231216T010000Z
DTEND:20231216T040000Z
X-MICROSOFT-CDO-ALLDAYEVENT:FALSE
SUMMARY:COEF Holiday Gathering
DESCRIPTION:Get more information at https://www.charteroakedfoundation.org/
X-ALT-DESC;FMTTYPE=text/html:Get more information at&nbsp\;<a href="https://www.charteroakedfoundation.org/">https://www.charteroakedfoundation.org/</a>
LOCATION:Harrison House
UID:e.2149.14431
SEQUENCE:3
DTSTAMP:20260420T023852Z
URL:https://business.glendora-chamber.org/events/details/coef-holiday-gathering-14431
END:VEVENT

END:VCALENDAR
