BEGIN:VCALENDAR
VERSION:2.0
PRODID:-//ChamberMaster//Event Calendar 2.0//EN
METHOD:PUBLISH
X-PUBLISHED-TTL:P3D
REFRESH-INTERVAL:P3D
CALSCALE:GREGORIAN
BEGIN:VEVENT
DTSTART:20230131T000000Z
DTEND:20230131T010000Z
X-MICROSOFT-CDO-ALLDAYEVENT:FALSE
SUMMARY:Darice Tsai would like to invite you to a John Hancock Zoom presentation hosted by Edward Jones
DESCRIPTION:In today's global financial markets and nonstop news cycle\, it can be hard to cut through the noise and identify the trends that matter most.\n\n\n\nFor a clearer view\, join us for a complimentary investing presentation Market Intelligence\, a comprehensive review of the investment landscape across key markets and asset classes that leverages the insight of dozens of asset managers and investment research firms. We will cover:\n\n \n\n\n	\n		\n			\n			\n				 \n			\n			\n			The research behind Market Intelligence\n		\n	\n\n\n\n	\n		\n			\n			\n				 \n			\n			\n			The outlook for U.S. and international stocks\n		\n	\n\n\n\n	\n		\n			\n			\n				 \n			\n			\n			Strategies for 2023 and beyond\n\n			 \n		\n	\n\nDon't miss this exclusive event!\n\n \n\nImportant Zoom Registration Details\n\nMonday\, January 30th @ 4pm.\n\n\n\nTo register\, click the following link.  If the link does not work\, please copy and paste it into your computer's address bar.\n\n\n\nhttps://edwardjones.zoom.us/webinar/register/WN_pspv0wH9Thue5HKcHgpKGQ\n\n\n\nor call our office @ (626) 963-8793.
X-ALT-DESC;FMTTYPE=text/html:<p>In today&#39\;s global financial markets and nonstop news cycle\, it can be hard to cut through the noise and identify the trends that matter most.<br />\n<br />\nFor a clearer view\, join&nbsp\;us for a complimentary investing&nbsp\;presentation&nbsp\;<em>Market Intelligence</em>\, a comprehensive review of the investment landscape across key markets and asset classes that leverages the insight of&nbsp\;dozens of&nbsp\;asset managers and investment research firms. We will cover:<br />\n&nbsp\;</p>\n\n<table style="background-color:rgb(255\, 255\, 255)\; border-collapse:collapse\; border-spacing:0px\; color:rgb(26\, 26\, 26)\; font-family:arial\,helvetica\,sans-serif\; font-size:14px">\n	<tbody>\n		<tr>\n			<td>\n			<ul>\n				<li>&nbsp\;</li>\n			</ul>\n			</td>\n			<td>The research behind Market Intelligence</td>\n		</tr>\n	</tbody>\n</table>\n\n<table style="background-color:rgb(255\, 255\, 255)\; border-collapse:collapse\; border-spacing:0px\; color:rgb(26\, 26\, 26)\; font-family:arial\,helvetica\,sans-serif\; font-size:14px">\n	<tbody>\n		<tr>\n			<td>\n			<ul>\n				<li>&nbsp\;</li>\n			</ul>\n			</td>\n			<td>The outlook for U.S. and international stocks</td>\n		</tr>\n	</tbody>\n</table>\n\n<table style="background-color:rgb(255\, 255\, 255)\; border-collapse:collapse\; border-spacing:0px\; color:rgb(26\, 26\, 26)\; font-family:arial\,helvetica\,sans-serif\; font-size:14px">\n	<tbody>\n		<tr>\n			<td>\n			<ul>\n				<li>&nbsp\;</li>\n			</ul>\n			</td>\n			<td>Strategies for 2023 and beyond<br />\n			&nbsp\;</td>\n		</tr>\n	</tbody>\n</table>\n<span style="background-color:rgb(255\, 255\, 255)\; color:rgb(26\, 26\, 26)\; font-family:arial\,helvetica\,sans-serif\; font-size:14px">Don&#39\;t miss this exclusive event!</span>\n\n<p>&nbsp\;</p>\n\n<p><strong>Important Zoom Registration Details</strong><br />\nMonday\, January 30th @ 4pm.<br />\n<br />\nTo&nbsp\;register\, click the following link.&nbsp\;&nbsp\;If the link does not work\, please copy and paste it into your computer&#39\;s address bar.<br />\n<br />\n<a href="https://edwardjones.zoom.us/webinar/register/WN_pspv0wH9Thue5HKcHgpKGQ">https://edwardjones.zoom.us/webinar/register/WN_pspv0wH9Thue5HKcHgpKGQ</a><br />\n<br />\nor call our office @ (626) 963-8793.&nbsp\;</p>\n
LOCATION:
UID:e.2149.13237
SEQUENCE:3
DTSTAMP:20260420T162153Z
URL:https://business.glendora-chamber.org/events/details/darice-tsai-would-like-to-invite-you-to-a-john-hancock-zoom-presentation-hosted-by-edward-jones-13237
END:VEVENT

END:VCALENDAR
