BEGIN:VCALENDAR
VERSION:2.0
PRODID:-//ChamberMaster//Event Calendar 2.0//EN
METHOD:PUBLISH
X-PUBLISHED-TTL:P3D
REFRESH-INTERVAL:P3D
CALSCALE:GREGORIAN
BEGIN:VEVENT
DTSTART:20240330T160000Z
DTEND:20240330T190000Z
X-MICROSOFT-CDO-ALLDAYEVENT:FALSE
SUMMARY:Easter Egg Hunt
DESCRIPTION:Activities will be held at both Finkbiner & Gladstone Parks!!\n\nFree Pancake Breakfast begins at 9:00am\n\nEgg Hunt begins at 10:00am
X-ALT-DESC;FMTTYPE=text/html:Activities will be held at both Finkbiner &amp\; Gladstone Parks!!<br />\nFree Pancake Breakfast begins at 9:00am<br />\nEgg Hunt begins at 10:00am
LOCATION:Finkbiner & Gladstone Parks
UID:e.2149.14778
SEQUENCE:3
DTSTAMP:20260419T215907Z
URL:https://business.glendora-chamber.org/events/details/easter-egg-hunt-03-30-2024-14778
END:VEVENT

END:VCALENDAR
