BEGIN:VCALENDAR
VERSION:2.0
PRODID:-//ChamberMaster//Event Calendar 2.0//EN
METHOD:PUBLISH
X-PUBLISHED-TTL:P3D
REFRESH-INTERVAL:P3D
CALSCALE:GREGORIAN
BEGIN:VEVENT
DTSTART:20201001T190000Z
DTEND:20201001T203000Z
X-MICROSOFT-CDO-ALLDAYEVENT:FALSE
SUMMARY:Legislative Action & Economic Development Committee
DESCRIPTION:Glendora Chamber  Economic Development and Legislative Action Committee
X-ALT-DESC;FMTTYPE=text/html:Glendora Chamber&nbsp\;&#8203\;<strong><span style="font-family:arial\,sans-serif\;">Economic Development and Legislative Action Committee</span></strong>
LOCATION:ZOOM Information: https://us02web.zoom.us/j/88121254460?pwd=RW1QNTBnY1pGN3hYQnUyNkYyYnFJQT09
UID:e.2149.920
SEQUENCE:3
DTSTAMP:20260422T080954Z
URL:https://business.glendora-chamber.org/events/details/economic-development-and-legislative-action-committee-10-01-2020-920
END:VEVENT

END:VCALENDAR
