BEGIN:VCALENDAR
VERSION:2.0
PRODID:-//ChamberMaster//Event Calendar 2.0//EN
METHOD:PUBLISH
X-PUBLISHED-TTL:P3D
REFRESH-INTERVAL:P3D
CALSCALE:GREGORIAN
BEGIN:VEVENT
DTSTART:20201105T200000Z
DTEND:20201105T213000Z
X-MICROSOFT-CDO-ALLDAYEVENT:FALSE
SUMMARY:Legislative Action & Economic Development Committee
DESCRIPTION:Glendora Chamber  Economic Development and Legislative Action Committee\n\nMeeting Link: https://us02web.zoom.us/j/83195343838?pwd=WXFlckV4WHJUV0dXdU5rdnJzS29aQT09
X-ALT-DESC;FMTTYPE=text/html:Glendora Chamber&nbsp\;&#8203\;<strong><span style="font-family:arial\,sans-serif\;">Economic Development and Legislative Action Committee<br />\nMeeting Link:&nbsp\;</span><a href="https://us02web.zoom.us/j/83195343838?pwd=WXFlckV4WHJUV0dXdU5rdnJzS29aQT09">https://us02web.zoom.us/j/83195343838?pwd=WXFlckV4WHJUV0dXdU5rdnJzS29aQT09</a></strong>
LOCATION:ZOOM Link: https://us02web.zoom.us/j/83195343838?pwd=WXFlckV4WHJUV0dXdU5rdnJzS29aQT09
UID:e.2149.921
SEQUENCE:3
DTSTAMP:20260422T063052Z
URL:https://business.glendora-chamber.org/events/details/economic-development-and-legislative-action-committee-11-05-2020-921
END:VEVENT

END:VCALENDAR
