BEGIN:VCALENDAR
VERSION:2.0
PRODID:-//ChamberMaster//Event Calendar 2.0//EN
METHOD:PUBLISH
X-PUBLISHED-TTL:P3D
REFRESH-INTERVAL:P3D
CALSCALE:GREGORIAN
BEGIN:VEVENT
DTSTART:20150225T013000Z
DTEND:20150225T030000Z
X-MICROSOFT-CDO-ALLDAYEVENT:FALSE
SUMMARY:Evening Networking Mixer
DESCRIPTION:Join us for networking opportunities\, food\, drinks\, fun and more!\n\nThe Village Eatery and SanZman Productions are coming together to host a nite of delicious hors d'oeuvres and intrigue.
X-ALT-DESC;FMTTYPE=text/html:Join us for networking opportunities\, food\, drinks\, fun and more!<br />\nThe Village Eatery and SanZman Productions are coming together to host a nite of delicious hors d&#39\;oeuvres and intrigue.
LOCATION:The Village Eatery 221 N. Glendora Ave.
UID:e.2149.1562
SEQUENCE:3
DTSTAMP:20260419T194246Z
URL:https://business.glendora-chamber.org/events/details/evening-networking-mixer-02-24-2015-1562
END:VEVENT

END:VCALENDAR
