BEGIN:VCALENDAR
VERSION:2.0
PRODID:-//ChamberMaster//Event Calendar 2.0//EN
METHOD:PUBLISH
X-PUBLISHED-TTL:P3D
REFRESH-INTERVAL:P3D
CALSCALE:GREGORIAN
BEGIN:VEVENT
DTSTART:20200408T150000Z
DTEND:20200408T163000Z
X-MICROSOFT-CDO-ALLDAYEVENT:FALSE
SUMMARY:Executive Board Meeting
DESCRIPTION:
X-ALT-DESC;FMTTYPE=text/html:
LOCATION:Chamber Office
UID:e.2149.8713
SEQUENCE:3
DTSTAMP:20260422T165928Z
URL:https://business.glendora-chamber.org/events/details/executive-board-meeting-04-08-2020-8713
END:VEVENT

END:VCALENDAR
