BEGIN:VCALENDAR
VERSION:2.0
PRODID:-//ChamberMaster//Event Calendar 2.0//EN
METHOD:PUBLISH
X-PUBLISHED-TTL:P3D
REFRESH-INTERVAL:P3D
CALSCALE:GREGORIAN
BEGIN:VEVENT
DTSTART:20230124T160000Z
DTEND:20230124T180000Z
X-MICROSOFT-CDO-ALLDAYEVENT:FALSE
SUMMARY:Glendora Business Watch Forum
DESCRIPTION:Please join us on January 24th\, starting at 8:00 AM\, for the first part of the Glendora Chamber's Business Watch Forum. This is an opportunity for the business community to learn about ways to protect your business and more. \n\n\n\nNo Cost Must RSVP\n\n\n\nIn partnership with the City of Glendora and the Glendora Police Department\, we will be discussing the following: \n\n	City position on business crime\n	Business crime statistics within Glendora\n	Crime trends within Glendora\n	Tips to prevent or deter crime\n	Schedule for future forums\n	Q & A\n\n\nThank you to America's Christian Credit Union for hosting the event.
X-ALT-DESC;FMTTYPE=text/html:<span style="font-size:14px\;"><span style="font-family:arial\;">Please join us on January 24th\, starting at 8:00 AM\, for the first part of the Glendora Chamber&#39\;s Business Watch Forum. This is an opportunity for the business community to learn about ways to protect your business and more.&nbsp\;<br />\n<br />\n<span style="font-size:16px\;"><u><strong>No Cost Must RSVP</strong></u></span><br />\n<br />\nIn partnership with the City of Glendora and the Glendora Police Department\, we will be discussing the following:&nbsp\;</span></span>\n<ul>\n	<li style="color:black\;background-image:initial\;background-position:initial\;background-size:initial\;background-repeat:initial\;background-attachment:initial\;background-origin:initial\;background-clip:initial\;"><strong><span style="font-size:14px\;"><span style="font-family:arial\;">City position on business crime</span></span></strong></li>\n	<li style="color:black\;background-image:initial\;background-position:initial\;background-size:initial\;background-repeat:initial\;background-attachment:initial\;background-origin:initial\;background-clip:initial\;"><strong><span style="font-size:14px\;"><span style="font-family:arial\;"><span style="background-image:initial\;background-position:initial\;background-size:initial\;background-repeat:initial\;background-attachment:initial\;background-origin:initial\;background-clip:initial\;">Business crime statistics within Glendora</span></span></span></strong></li>\n	<li style="color:black\;"><strong><span style="font-size:14px\;"><span style="font-family:arial\;"><span style="background-image:initial\;background-position:initial\;background-size:initial\;background-repeat:initial\;background-attachment:initial\;background-origin:initial\;background-clip:initial\;">Crime trends within Glendora</span></span></span></strong></li>\n	<li><strong><span style="font-size:14px\;"><span style="font-family:arial\;"><span style="background-image:initial\;background-position:initial\;background-size:initial\;background-repeat:initial\;background-attachment:initial\;background-origin:initial\;background-clip:initial\;"><span style="color:black\;">Tips to prevent or deter crime</span></span></span></span></strong></li>\n	<li><strong><span style="font-size:14px\;"><span style="font-family:arial\;"><span style="background-image:initial\;background-position:initial\;background-size:initial\;background-repeat:initial\;background-attachment:initial\;background-origin:initial\;background-clip:initial\;"><span style="color:black\;">Schedule for future forums</span></span></span></span></strong></li>\n	<li style="color:black\;"><strong><span style="font-size:14px\;"><span style="font-family:arial\;"><span style="background-image:initial\;background-position:initial\;background-size:initial\;background-repeat:initial\;background-attachment:initial\;background-origin:initial\;background-clip:initial\;">Q &amp\; A</span></span></span></strong></li>\n</ul>\n\n<div style="color:black\;"><font face="arial"><span style="font-size: 14px\;">Thank you to <span style="color:#B22222\;"><strong>America&#39\;s Christian Credit Union</strong></span> for hosting the event.&nbsp\;</span></font></div>\n
LOCATION:America's Christian Credit Union
UID:e.2149.13203
SEQUENCE:3
DTSTAMP:20260420T161318Z
URL:https://business.glendora-chamber.org/events/details/glendora-business-watch-forum-13203
END:VEVENT

END:VCALENDAR
