BEGIN:VCALENDAR
VERSION:2.0
PRODID:-//ChamberMaster//Event Calendar 2.0//EN
METHOD:PUBLISH
X-PUBLISHED-TTL:P3D
REFRESH-INTERVAL:P3D
CALSCALE:GREGORIAN
BEGIN:VEVENT
DTSTART:20230621T143000Z
DTEND:20230621T160000Z
X-MICROSOFT-CDO-ALLDAYEVENT:FALSE
SUMMARY:Glendora Chamber Board Meeting
DESCRIPTION:Glendora Chamber Board Meeting
X-ALT-DESC;FMTTYPE=text/html:Glendora Chamber Board Meeting&nbsp\;
LOCATION:America's Christian Credit Union
UID:e.2149.13209
SEQUENCE:3
DTSTAMP:20260420T090229Z
URL:https://business.glendora-chamber.org/events/details/glendora-chamber-board-meeting-06-21-2023-13209
END:VEVENT

END:VCALENDAR
