BEGIN:VCALENDAR
VERSION:2.0
PRODID:-//ChamberMaster//Event Calendar 2.0//EN
METHOD:PUBLISH
X-PUBLISHED-TTL:P3D
REFRESH-INTERVAL:P3D
CALSCALE:GREGORIAN
BEGIN:VEVENT
DTSTART:20200415T143000Z
DTEND:20200415T160000Z
X-MICROSOFT-CDO-ALLDAYEVENT:FALSE
SUMMARY:Glendora Chamber Board Meeting (ZOOM)
DESCRIPTION:Glendora Chamber of Commerce Board of Directors meeting
X-ALT-DESC;FMTTYPE=text/html:Glendora Chamber of Commerce Board of Directors meeting&nbsp\;&nbsp\;&nbsp\;&nbsp\;
LOCATION:
UID:e.2149.8690
SEQUENCE:3
DTSTAMP:20260422T170041Z
URL:https://business.glendora-chamber.org/events/details/glendora-chamber-board-meeting-zoom-8690
END:VEVENT

END:VCALENDAR
