BEGIN:VCALENDAR
VERSION:2.0
PRODID:-//ChamberMaster//Event Calendar 2.0//EN
METHOD:PUBLISH
X-PUBLISHED-TTL:P3D
REFRESH-INTERVAL:P3D
CALSCALE:GREGORIAN
BEGIN:VEVENT
DTSTART:20200207T160000Z
DTEND:20200207T170000Z
X-MICROSOFT-CDO-ALLDAYEVENT:FALSE
SUMMARY:Glendora Chamber Coffee Mixer at The Wishing Well
DESCRIPTION:Please join us at The Wishing Well for the Glendora Chamber Coffee Mixer. Networking\, Mixing\, Education\, Fun\, and more!\n\nSPOTLIGHT: Ken Salzman of SanZman Productions will be our speaker.
X-ALT-DESC;FMTTYPE=text/html:<p>Please join us at <strong>The Wishing Well </strong>for the Glendora Chamber Coffee Mixer. Networking\, Mixing\, Education\, Fun\, and more!</p>\n\n<p><u><strong>SPOTLIGHT: </strong></u>Ken Salzman of SanZman Productions will be our speaker.</p>\n\n<p>&nbsp\;</p>\n
LOCATION:The Wishing Well 200 N. Glendora Ave.\, Unit D Glendora CA
UID:e.2149.1284
SEQUENCE:3
DTSTAMP:20260424T084315Z
URL:https://business.glendora-chamber.org/events/details/glendora-chamber-coffee-mixer-at-the-wishing-well-1284
END:VEVENT

END:VCALENDAR
