BEGIN:VCALENDAR
VERSION:2.0
PRODID:-//ChamberMaster//Event Calendar 2.0//EN
METHOD:PUBLISH
X-PUBLISHED-TTL:P3D
REFRESH-INTERVAL:P3D
CALSCALE:GREGORIAN
BEGIN:VEVENT
DTSTART:20200605T150000Z
DTEND:20200605T160000Z
X-MICROSOFT-CDO-ALLDAYEVENT:FALSE
SUMMARY:Glendora Chamber Zoom Coffee Mixer with Realty One Group Masters
DESCRIPTION:Please join us for the Glendora Chamber Coffee Mixer. Networking\, Mixing\, Education\, Fun\, and more!\n\nOur Spotlight Speaker will be Jaime Genie of  Realty One Group Masters  talking to us about what buyers\, sellers\, and landlords need to know during COVID19.\n\n\n\nYou must register on the link below to receive the Zoom link.
X-ALT-DESC;FMTTYPE=text/html:<p>Please join us for the Glendora Chamber Coffee Mixer. Networking\, Mixing\, Education\, Fun\, and more!<br />\nOur <strong>Spotlight Speaker</strong> will be Jaime Genie of&nbsp\;&nbsp\;<u><strong>Realty One Group Masters&nbsp\;</strong></u><strong>&nbsp\;</strong><span style="color: rgb(35\, 35\, 51)\; font-family: Lato\, Helvetica\, Arial\; font-size: 14px\; background-color: rgb(255\, 255\, 255)\;">talking to us about what buyers\, sellers\, and landlords need to know during COVID19.</span></p>\n\n<p><br />\n<strong>You must register on the link below to receive the Zoom link.</strong></p>\n
LOCATION:You are invited to a Zoom meeting. When: Jun 5\, 2020 08:00 AM Pacific Time (US and Canada) Register in advance for this meeting: https://us02web.zoom.us/meeting/register/tZcoc-ytqz8qE9PqImBa3gZLVts537-IAdoa After registering\, you will receive a confirmation email containing information about joining the meeting.
UID:e.2149.1288
SEQUENCE:3
DTSTAMP:20260422T141003Z
URL:https://business.glendora-chamber.org/events/details/glendora-chamber-zoom-coffee-mixer-with-realty-one-group-masters-1288
END:VEVENT

END:VCALENDAR
