BEGIN:VCALENDAR
VERSION:2.0
PRODID:-//ChamberMaster//Event Calendar 2.0//EN
METHOD:PUBLISH
X-PUBLISHED-TTL:P3D
REFRESH-INTERVAL:P3D
CALSCALE:GREGORIAN
BEGIN:VEVENT
DTSTART:20250419T010000Z
DTEND:20250419T040000Z
X-MICROSOFT-CDO-ALLDAYEVENT:FALSE
SUMMARY:Glendora Education Foundation - Sip & Support
DESCRIPTION:Sip & Support is just around the corner!\n\n \n\nJoin us on April 18 for an evening of fun\, community\, and giving back all in support of GUSD students\, teachers\, and schools!\n\n \n\n   Tickets: $125 / $200/ Sponsorships Available\n\n  Location: American Legion Building \n\n  Time: 6PM\n\n \n\nSecure your tickets now and be part of something special! \n\nMix\, Mingle & Connect with School Leaders\, Community Members and Dedicated Supporters!
X-ALT-DESC;FMTTYPE=text/html:<strong><span style="color:#E81F1F\;"><span style="font-family:arial\,sans-serif\;"><span style="font-size:18.0pt\;"><a href="https://e.givesmart.com/events/HmZ/">Sip &amp\; Support</a> is just around the corner!</span></span></span></strong><br />\n&nbsp\;<br />\n<span style="word-break:break-word\;"><span style="color:#E81F1F\;"><span style="font-family:arial\,sans-serif\;"><span style="font-size:18.0pt\;">Join us on April 18 for an evening of fun\, community\, and giving back&mdash\;all in support of GUSD students\, teachers\, and schools!</span></span></span></span><br />\n&nbsp\;<br />\n<span style="word-break:break-word\;"><span style="color:#E81F1F\;"><span style="font-family:segoe ui emoji\,sans-serif\;"><span style="font-size:18.0pt\;">&#127903\;&#65039\;</span></span></span></span><span style="color:#E81F1F\;"><span style="font-family:arial\,sans-serif\;"><span style="font-size:18.0pt\;"> <strong>Tickets:</strong> $125 / $200/ Sponsorships Available</span></span></span><br />\n<span style="word-break:break-word\;"><span style="color:#E81F1F\;"><span style="font-family:segoe ui emoji\,sans-serif\;"><span style="font-size:18.0pt\;">&#128205\;</span></span></span></span><span style="color:#E81F1F\;"><span style="font-family:arial\,sans-serif\;"><span style="font-size:18.0pt\;"> <strong>Location:</strong> American Legion Building&nbsp\;</span></span></span><br />\n<span style="color:#E81F1F\;"><span style="font-family:segoe ui emoji\,sans-serif\;"><span style="font-size:18.0pt\;"><span style="word-break:break-word\;">&#9200\;</span><span style="font-family:arial\,sans-serif\;"><span style="font-size:18pt\;"> <strong>Time:</strong> 6PM</span></span></span></span></span><br />\n&nbsp\;<br />\n<span style="word-break:break-word\;"><span style="color:#E81F1F\;"><span style="font-family:arial\,sans-serif\;"><span style="font-size:16.5pt\;">Secure your tickets now and be part of something special!</span></span></span>&nbsp\;</span><br />\n<span style="color:#E81F1F\;"><span style="font-family:arial\,sans-serif\;"><span style="font-size:15.0pt\;"><span style="word-break:break-word\;">Mix\, Mingle &amp\; Connect with School Leaders\, Community Members and Dedicated Supporters!</span></span></span></span>
LOCATION:159 N. Cullen Ave. Glendora\, CA 91741
UID:e.2149.17206
SEQUENCE:3
DTSTAMP:20260421T160053Z
URL:https://business.glendora-chamber.org/events/details/glendora-education-foundation-sip-support-17206
END:VEVENT

END:VCALENDAR
