BEGIN:VCALENDAR
VERSION:2.0
PRODID:-//ChamberMaster//Event Calendar 2.0//EN
METHOD:PUBLISH
X-PUBLISHED-TTL:P3D
REFRESH-INTERVAL:P3D
CALSCALE:GREGORIAN
BEGIN:VEVENT
DTSTART:20250412T020000Z
DTEND:20250412T040000Z
X-MICROSOFT-CDO-ALLDAYEVENT:FALSE
SUMMARY:Glendora Rotary's 52nd Choral Festival
DESCRIPTION:The Glendora Rotary Club presents the 52nd Annual Choral Festival\, bringing together 700 students from the Glendora Unified School District Choral Music programs\, Elementary through High School\, on the stage of the Haugh Performing Arts Center at Citrus College. \n\n\n\nTickets may be purchased at the link below and at the Performing Arts Center the night of the event if available. \n\n\n\nTickets: https://www.eventbrite.com/e/glendora-rotarys-52nd-choral-festival-tickets-1220076434459?aff=oddtdtcreator\n\n \n\n\nAll of the Glendora Unified School District Choirs will be performing.\n\nProceeds from this event are divided equally between the elementary\, middle\, and high school programs.\n\nFor ticket & event questions\, please contact: Mrs. Michelle Letourneau\, Music Secretary\n\n626-914-2648 or mletourneau@glendora.k12.ca.us\n\nPlease note: Children 2 and under are free and may sit on your lap.\n\n\n\n\n\nThis is a link to the map that shows parking and where to line up when you arrive at the event. HERE
X-ALT-DESC;FMTTYPE=text/html:<span style="font-size:14px\;"><span style="font-family:arial\;"><span style="color: rgb(75\, 79\, 86)\; background-color: rgb(255\, 255\, 255)\;">The&nbsp\;</span><a data-hovercard="/ajax/hovercard/page.php?id=162530107955&amp\;extragetparams=%7B%22directed_target_id%22%3A789800407833831%7D" data-hovercard-prefer-more-content-show="1" href="https://www.facebook.com/glendorarotary/" style="color: rgb(54\, 88\, 153)\; cursor: pointer\; text-decoration: none\; font-family: Helvetica\, Arial\, sans-serif\; font-size: 14px\; background-color: rgb(255\, 255\, 255)\;">Glendora Rotary</a><span style="color: rgb(75\, 79\, 86)\; background-color: rgb(255\, 255\, 255)\;">&nbsp\;Club presents the 52nd Annual Choral Festival\, bringing together 700 students from the&nbsp\;</span><a data-hovercard="/ajax/hovercard/page.php?id=268687713314799&amp\;extragetparams=%7B%22directed_target_id%22%3A789800407833831%7D" data-hovercard-prefer-more-content-show="1" href="https://www.facebook.com/Glendora-Unified-School-District-268687713314799/" style="color: rgb(54\, 88\, 153)\; cursor: pointer\; text-decoration: none\; font-family: Helvetica\, Arial\, sans-serif\; font-size: 14px\; background-color: rgb(255\, 255\, 255)\;">Glendora Unified School District</a><span style="color: rgb(75\, 79\, 86)\; background-color: rgb(255\, 255\, 255)\;">&nbsp\;Choral Music programs\, Elementary through High School\, on the stage of the&nbsp\;</span><a data-hovercard="/ajax/hovercard/page.php?id=160971892116&amp\;extragetparams=%7B%22directed_target_id%22%3A789800407833831%7D" data-hovercard-prefer-more-content-show="1" href="https://www.facebook.com/haughpac/" style="color: rgb(54\, 88\, 153)\; cursor: pointer\; text-decoration: none\; font-family: Helvetica\, Arial\, sans-serif\; font-size: 14px\; background-color: rgb(255\, 255\, 255)\;">Haugh Performing Arts Center</a><span style="color: rgb(75\, 79\, 86)\; background-color: rgb(255\, 255\, 255)\;">&nbsp\;at&nbsp\;</span><a data-hovercard="/ajax/hovercard/page.php?id=104063452962206&amp\;extragetparams=%7B%22directed_target_id%22%3A789800407833831%7D" data-hovercard-prefer-more-content-show="1" href="https://www.facebook.com/pages/Citrus-College/104063452962206" style="color: rgb(54\, 88\, 153)\; cursor: pointer\; text-decoration: none\; font-family: Helvetica\, Arial\, sans-serif\; font-size: 14px\; background-color: rgb(255\, 255\, 255)\;">Citrus College</a><span style="color: rgb(75\, 79\, 86)\; background-color: rgb(255\, 255\, 255)\;">.&nbsp\;</span><br style="color: rgb(75\, 79\, 86)\; font-family: Helvetica\, Arial\, sans-serif\; font-size: 14px\; background-color: rgb(255\, 255\, 255)\;" />\n<br style="color: rgb(75\, 79\, 86)\; font-family: Helvetica\, Arial\, sans-serif\; font-size: 14px\; background-color: rgb(255\, 255\, 255)\;" />\n<span style="color: rgb(75\, 79\, 86)\; background-color: rgb(255\, 255\, 255)\;">Tickets may be purchased at the link below</span><span style="color: rgb(75\, 79\, 86)\; background-color: rgb(255\, 255\, 255)\;">&nbsp\;and at the Performing Arts Center the night of the event if available.&nbsp\;</span><br style="color: rgb(75\, 79\, 86)\; font-family: Helvetica\, Arial\, sans-serif\; font-size: 14px\; background-color: rgb(255\, 255\, 255)\;" />\n<br />\nTickets:&nbsp\;<a href="https://www.eventbrite.com/e/glendora-rotarys-52nd-choral-festival-tickets-1220076434459?aff=oddtdtcreator" target="_blank">https://www.eventbrite.com/e/glendora-rotarys-52nd-choral-festival-tickets-1220076434459?aff=oddtdtcreator</a></span></span><br style="color: rgb(75\, 79\, 86)\; font-family: Helvetica\, Arial\, sans-serif\; font-size: 14px\; background-color: rgb(255\, 255\, 255)\;" />\n&nbsp\;\n<div class="eds-l-mar-vert-6 eds-l-sm-mar-vert-4 eds-text-bm structured-content-rich-text" style="margin: 24px 0px\; padding: 0px\; text-rendering: optimizelegibility\; font-size: 14px\; line-height: 1.25rem\; box-sizing: border-box\; color: rgb(57\, 54\, 79)\; font-family: &quot\;Neue Plak&quot\;\, -apple-system\, BlinkMacSystemFont\, Roboto\, &quot\;Helvetica Neue&quot\;\, Helvetica\, Tahoma\, Arial\, sans-serif\;">\n<div class="eds-text--left" style="margin: 0px\; padding: 0px\; box-sizing: border-box\;">\n<p style="margin: 0px\; padding: 0px\; box-sizing: border-box\; font-size: 16px\; line-height: 1.5rem\; color: rgb(111\, 114\, 135)\;"><span style="font-size:14px\;"><span style="font-family:arial\;">All of the Glendora Unified School District Choirs will be performing.</span></span></p>\n\n<p style="margin: 0px\; padding: 10px 0px 0px\; box-sizing: border-box\; font-size: 16px\; line-height: 1.5rem\; color: rgb(111\, 114\, 135)\;"><span style="font-size:14px\;"><span style="font-family:arial\;"><em style="box-sizing: border-box\; padding-top: 0px\;">Proceeds from this event are divided equally between the elementary\, middle\, and high school programs.</em></span></span></p>\n\n<p style="margin: 0px\; padding: 10px 0px 0px\; box-sizing: border-box\; font-size: 16px\; line-height: 1.5rem\; color: rgb(111\, 114\, 135)\;"><span style="font-size:14px\;"><span style="font-family:arial\;">For ticket &amp\; event questions\, please contact: Mrs. Michelle Letourneau\,&nbsp\;<span style="font-weight: 700\; box-sizing: border-box\; padding-top: 0px\;">Music Secretary</span></span></span></p>\n\n<p style="margin: 0px\; padding: 10px 0px 0px\; box-sizing: border-box\; font-size: 16px\; line-height: 1.5rem\; color: rgb(111\, 114\, 135)\;"><span style="font-size:14px\;"><span style="font-family:arial\;">626-914-2648 or&nbsp\;<a href="https://www.eventbrite.com/e/glendora-rotarys-52nd-choral-festival-tickets-1220076434459?aff=oddtdtcreator" rel="nofollow noopener noreferrer" style="background-color: transparent\; color: var(--eds-control\,#3659e3)\; box-sizing: border-box\; padding-top: 0px\;" target="_blank" title="mailto:mletourneau@glendora.k12.ca.us">mletourneau@glendora.k12.ca.us</a></span></span></p>\n\n<p style="margin: 0px\; padding: 10px 0px 0px\; box-sizing: border-box\; font-size: 16px\; line-height: 1.5rem\; color: rgb(111\, 114\, 135)\;"><span style="font-size:14px\;"><span style="font-family:arial\;"><span style="font-weight: 700\; box-sizing: border-box\; padding-top: 0px\;">Please note: Children 2 and under are free and may sit on your lap.</span></span></span></p>\n</div>\n</div>\n\n<div class="eds-l-mar-vert-6 eds-l-sm-mar-vert-4 eds-text-bm structured-content-rich-text" style="margin: 24px 0px\; padding: 0px\; text-rendering: optimizelegibility\; font-size: 14px\; line-height: 1.25rem\; box-sizing: border-box\; color: rgb(57\, 54\, 79)\; font-family: &quot\;Neue Plak&quot\;\, -apple-system\, BlinkMacSystemFont\, Roboto\, &quot\;Helvetica Neue&quot\;\, Helvetica\, Tahoma\, Arial\, sans-serif\;">\n<div class="eds-text--left" style="margin: 0px\; padding: 0px\; box-sizing: border-box\;">\n<h3 style="margin: 0px\; padding: 0px\; box-sizing: border-box\; font-size: 17px\; line-height: 21px\; color: rgb(30\, 10\, 60)\;"><span style="font-size:14px\;"><span style="font-family:arial\;">This is a&nbsp\;<a data-msys-clicktrack="0" href="https://www.google.com/maps/d/u/1/edit?mid=1yQyWuhu_zqWRGZxfZJ5WPMi2jwL-_ac&amp\;usp=sharing" rel="nofollow noopener noreferrer" style="background-color: transparent\; color: var(--eds-control\,#3659e3)\; box-sizing: border-box\; padding-top: 0px\;" target="_blank" title="https://www.google.com/maps/d/u/1/edit?mid=1yQyWuhu_zqWRGZxfZJ5WPMi2jwL-_ac&amp\;usp=sharing"><span style="font-weight: 700\; box-sizing: border-box\; padding-top: 0px\;">link</span></a>&nbsp\;to the map that shows parking and where to line up when you arrive at the event.&nbsp\;<a data-msys-clicktrack="0" href="https://www.google.com/maps/d/u/1/edit?mid=1yQyWuhu_zqWRGZxfZJ5WPMi2jwL-_ac&amp\;usp=sharing" rel="nofollow noopener noreferrer" style="background-color: transparent\; color: var(--eds-control\,#3659e3)\; box-sizing: border-box\;" target="_blank" title="https://www.google.com/maps/d/u/1/edit?mid=1yQyWuhu_zqWRGZxfZJ5WPMi2jwL-_ac&amp\;usp=sharing"><span style="font-weight: 700\; box-sizing: border-box\; padding-top: 0px\;">HERE</span></a></span></span></h3>\n</div>\n</div>\n
LOCATION:Haugh Performing Arts Center 1000 W. Foothill Blvd. Glendora\, CA 91741
UID:e.2149.15796
SEQUENCE:3
DTSTAMP:20260421T160355Z
URL:https://business.glendora-chamber.org/events/details/glendora-rotary-s-52nd-choral-festival-15796
END:VEVENT

END:VCALENDAR
