BEGIN:VCALENDAR
VERSION:2.0
PRODID:-//ChamberMaster//Event Calendar 2.0//EN
METHOD:PUBLISH
X-PUBLISHED-TTL:P3D
REFRESH-INTERVAL:P3D
CALSCALE:GREGORIAN
BEGIN:VEVENT
DTSTART:20230114T030000Z
DTEND:20230114T050000Z
X-MICROSOFT-CDO-ALLDAYEVENT:FALSE
SUMMARY:Glendora Tartan Bandorama
DESCRIPTION:Get your tickets today by calling (626) 650-9976 or emailing ghsbpbandorama@gmail.com
X-ALT-DESC;FMTTYPE=text/html:<span style="font-size:20px\;">Get your tickets today by calling <strong>(626) 650-9976</strong> or emailing <strong><a href="mailto:ghsbpbandorama@gmail.com?subject=Bandorama%20Tickets">ghsbpbandorama@gmail.com</a></strong></span>
LOCATION:Haugh Performing Arts Center
UID:e.2149.13202
SEQUENCE:3
DTSTAMP:20260420T161753Z
URL:https://business.glendora-chamber.org/events/details/glendora-tartan-bandorama-13202
END:VEVENT

END:VCALENDAR
