BEGIN:VCALENDAR
VERSION:2.0
PRODID:-//ChamberMaster//Event Calendar 2.0//EN
METHOD:PUBLISH
X-PUBLISHED-TTL:P3D
REFRESH-INTERVAL:P3D
CALSCALE:GREGORIAN
BEGIN:VEVENT
DTSTART:20230610T160000Z
DTEND:20230610T220000Z
X-MICROSOFT-CDO-ALLDAYEVENT:FALSE
SUMMARY:HHW - FREE Household Hazardous Waste Recycling Event for GLENDORA 2023 (Jun. 10)
DESCRIPTION:Re: Free Household Hazardous Waste & E-Waste Recycling Collection Event for GLENDORA 2023 (Jun. 10)   \n\nWhere:    \n\nCitrus College\n\nStadium Parking Lot\n\nBarranca Avenue just north of Alosta Avenue/Route 66\n\nGlendora\n\n\n\nWhen:    \n\nSaturday\, June 10\, 2023\n\n9:00 a.m. - 3:00 p.m.\n\n \n\nLink:\n\nhttps://www.lacsd.org/services/solid-waste/household-hazardous-waste-collection/glendora-06-10-23\n\n \n\nJust want to let Glendora Chamber of Commerce and its members\, contacts\, and community know about the FREE Household Hazardous Waste & E-Waste Recycling Collection Event for Glendora area residents. Attached is a PDF of the event flyer.  \n\n\n\nThe Collection Event is a free and easy way to safely dispose of items that are too toxic to trash\, and Glendora Chamber of Commerce can be a huge help in helping spread the word about this free and convenient recycling opportunity.
X-ALT-DESC;FMTTYPE=text/html:<strong><span style="font-size:12.0pt\;">Re</span></strong><span style="font-size:12.0pt\;">: Free Household Hazardous Waste &amp\; E-Waste Recycling Collection Event for GLENDORA 2023 (Jun. 10) &nbsp\;&nbsp\;</span><br />\n<strong><span style="font-size:12.0pt\;">Where</span></strong>: &nbsp\;&nbsp\;&nbsp\;<br />\n<span style="font-size:12.0pt\;">Citrus College</span><br />\nStadium Parking Lot<br />\nBarranca Avenue just north&nbsp\;of Alosta Avenue/Route 66<br />\nGlendora<br />\n<br />\n<strong><span style="font-size:12.0pt\;">When</span></strong>: &nbsp\;&nbsp\;&nbsp\;<br />\n<span style="font-size:12.0pt\;">Saturday\, June 10\, 2023</span><br />\n<span style="font-size:12.0pt\;">9:00 a.m. - 3:00 p.m.</span><br />\n&nbsp\;<br />\n<strong><span style="font-size:12.0pt\;">Link</span></strong><span style="font-size:12.0pt\;">:</span><br />\n<a href="https://urldefense.proofpoint.com/v2/url?u=https-3A__www.lacsd.org_services_solid-2Dwaste_household-2Dhazardous-2Dwaste-2Dcollection_glendora-2D06-2D10-2D23&amp\;d=DwMFaQ&amp\;c=euGZstcaTDllvimEN8b7jXrwqOf-v5A_CdpgnVfiiMM&amp\;r=hMjWNAbzri3fDrQzwelB35CKgKrV6NS6PWnY_Qj0otE&amp\;m=Q6U4KkvPXEEh2Y6Y39a9gyAdh2Ebg0SaD3NXbSJXU20&amp\;s=BZvZsdPqLakeB15lJr2OJqLPLwUZK1jXEohe5aJ8Pnw&amp\;e=">https://www.lacsd.org/services/solid-waste/household-hazardous-waste-collection/glendora-06-10-23</a><br />\n&nbsp\;<br />\n<span style="font-family:calibri\,sans-serif\;"><span style="font-size:12.0pt\;">Just want to let&nbsp\;</span></span><span style="font-family:calibri\,sans-serif\;"><span style="font-size:11.0pt\;">Glendora Chamber of Commerce</span></span><span style="font-family:calibri\,sans-serif\;"><span style="font-size:12.0pt\;">&nbsp\;and its members\, contacts\, and community know about the FREE Household Hazardous Waste &amp\; E-Waste Recycling Collection Event for Glendora area residents. Attached is a PDF of the event flyer. &nbsp\;</span></span><br />\n<br />\n<span style="font-family:calibri\,sans-serif\;"><span style="font-size:12.0pt\;">The Collection Event is a free and easy way to safely dispose of items that are too toxic to trash\, and&nbsp\;</span></span><span style="font-family:calibri\,sans-serif\;"><span style="font-size:11.0pt\;">Glendora Chamber of Commerce</span></span><span style="font-family:calibri\,sans-serif\;"><span style="font-size:12.0pt\;">&nbsp\;can be a huge help in helping spread the word about this free and convenient recycling opportunity.&nbsp\;</span></span><br />\n<br />\n&nbsp\;
LOCATION:Citrus College Stadium Parking Lot Barranca Avenue just north of Alosta Avenue/Route 66 Glendora
UID:e.2149.14420
SEQUENCE:3
DTSTAMP:20260420T090523Z
URL:https://business.glendora-chamber.org/events/details/hhw-free-household-hazardous-waste-recycling-event-for-glendora-2023-jun-10-14420
END:VEVENT

END:VCALENDAR
