BEGIN:VCALENDAR
VERSION:2.0
PRODID:-//ChamberMaster//Event Calendar 2.0//EN
METHOD:PUBLISH
X-PUBLISHED-TTL:P3D
REFRESH-INTERVAL:P3D
CALSCALE:GREGORIAN
BEGIN:VEVENT
DTSTART:20260409T160000Z
DTEND:20260409T190000Z
X-MICROSOFT-CDO-ALLDAYEVENT:FALSE
SUMMARY:Law & Ethics (3 BBS CEUs Available)
DESCRIPTION:During this three-hour course\, the instructor\, Dan Thorne\, will overview the issues surrounding law and ethics in behavioral health care. Topics such as professional relationships\, conflicts of interest\, and professional responsibilities will be covered.
X-ALT-DESC;FMTTYPE=text/html:<span style="color:rgba(51\, 51\, 51\, 0.68)\; font-family:ctsans\,sans-serif\; font-size:14px">During this three-hour course\, the instructor\, Dan Thorne\, will overview the issues surrounding law and ethics in behavioral health care. Topics such as professional relationships\, conflicts of interest\, and professional responsibilities will be covered.</span>
LOCATION:Virtual
UID:e.2149.18448
SEQUENCE:3
DTSTAMP:20260425T215810Z
URL:https://business.glendora-chamber.org/events/details/law-ethics-3-bbs-ceus-available-18448
END:VEVENT

END:VCALENDAR
