BEGIN:VCALENDAR
VERSION:2.0
PRODID:-//ChamberMaster//Event Calendar 2.0//EN
METHOD:PUBLISH
X-PUBLISHED-TTL:P3D
REFRESH-INTERVAL:P3D
CALSCALE:GREGORIAN
BEGIN:VEVENT
DTSTART:20200806T190000Z
DTEND:20200806T203000Z
X-MICROSOFT-CDO-ALLDAYEVENT:FALSE
SUMMARY:Legislative Action & Economic Development Committee
DESCRIPTION:Glendora Chamber Legislative Action & Economic Development Committee
X-ALT-DESC;FMTTYPE=text/html:Glendora Chamber&nbsp\;Legislative Action &amp\; Economic Development Committee
LOCATION:Join Zoom Meeting https://us02web.zoom.us/j/86839486231?pwd=Kzh5dnVQakJJclBmZ0xOUVppdXUvZz09 Meeting ID: 868 3948 6231 Password: 023864 One tap mobile +16699006833\,\,86839486231#\,\,\,\,0#\,\,023864# US (San Jose) +13462487799\,\,86839486231#\,\,\,\,0#\,\,023864# US (Houston) Dial by your location +1 669 900 6833 US (San Jose) +1 346 248 7799 US (Houston) +1 253 215 8782 US (Tacoma) +1 929 205 6099 US (New York) +1 301 715 8592 US (Germantown) +1 312 626 6799 US (Chicago) Meeting ID: 868 3948 6231 Password: 023864
UID:e.2149.918
SEQUENCE:3
DTSTAMP:20260422T111049Z
URL:https://business.glendora-chamber.org/events/details/legislative-action-economic-development-committee-918
END:VEVENT

END:VCALENDAR
