BEGIN:VCALENDAR
VERSION:2.0
PRODID:-//ChamberMaster//Event Calendar 2.0//EN
METHOD:PUBLISH
X-PUBLISHED-TTL:P3D
REFRESH-INTERVAL:P3D
CALSCALE:GREGORIAN
BEGIN:VEVENT
DTSTART:20150212T193000Z
DTEND:20150212T210000Z
X-MICROSOFT-CDO-ALLDAYEVENT:FALSE
SUMMARY:Networking Lunch @ Glendora Continental Restaurant
DESCRIPTION:http://cloud.chambermaster.com/userfiles/UserFiles/chambers/2149/File/ChamberLuncheon.pdf
X-ALT-DESC;FMTTYPE=text/html:<a href="http://cloud.chambermaster.com/userfiles/UserFiles/chambers/2149/File/ChamberLuncheon.pdf">http://cloud.chambermaster.com/userfiles/UserFiles/chambers/2149/File/ChamberLuncheon.pdf</a>
LOCATION:316 W. Route 66
UID:e.2149.1520
SEQUENCE:3
DTSTAMP:20260419T193732Z
URL:https://business.glendora-chamber.org/events/details/networking-lunch-glendora-continental-restaurant-02-12-2015-1520
END:VEVENT

END:VCALENDAR
