BEGIN:VCALENDAR
VERSION:2.0
PRODID:-//ChamberMaster//Event Calendar 2.0//EN
METHOD:PUBLISH
X-PUBLISHED-TTL:P3D
REFRESH-INTERVAL:P3D
CALSCALE:GREGORIAN
BEGIN:VEVENT
DTSTART:20240415T160000Z
DTEND:20240415T180000Z
X-MICROSOFT-CDO-ALLDAYEVENT:FALSE
SUMMARY:Social Media Workshop: Instagram Reels 101
DESCRIPTION:During this free workshop\, we will lead you through various methods of content creation step by step.\n\n\n\nBring images and videos that highlight your product or business\, and by the end\, you'll have content for a whole week! Remember to have your notepad ready.
X-ALT-DESC;FMTTYPE=text/html:<span class="OYPEnA text-decoration-none text-strikethrough-none" style="font-weight: 700\;">During this free workshop\, we will lead you through various methods of content creation step by step.</span><br />\n<br />\n<span class="OYPEnA text-decoration-none text-strikethrough-none" style="font-weight: 700\;">Bring images and videos that highlight your product or business\, and by the end\, you&#39\;ll have content for a whole week! Remember to have your notepad ready.</span>
LOCATION:The Chamber Office 224 N Glendora Ave
UID:e.2149.15027
SEQUENCE:3
DTSTAMP:20260423T074742Z
URL:https://business.glendora-chamber.org/events/details/social-media-workshop-instagram-reels-101-15027
END:VEVENT

END:VCALENDAR
