BEGIN:VCALENDAR
VERSION:2.0
PRODID:-//ChamberMaster//Event Calendar 2.0//EN
METHOD:PUBLISH
X-PUBLISHED-TTL:P3D
REFRESH-INTERVAL:P3D
CALSCALE:GREGORIAN
BEGIN:VEVENT
DTSTART:20230209T193000Z
DTEND:20230209T210000Z
X-MICROSOFT-CDO-ALLDAYEVENT:FALSE
SUMMARY:The Lunch Net
DESCRIPTION:Please join us for our February Lunch Net at Mi Sabor Mexican Kitchen! There you will join Glendora Chamber members\, community leaders\, and more to network\, build your business\, and find out what is happing around Glendora.
X-ALT-DESC;FMTTYPE=text/html:<center style="text-align: left\;"><span style="font-size:16px\;"><span style="color: rgb(0\, 0\, 0)\; font-family: verdana\;">Please join us for our <strong>February Lunch Net</strong>&nbsp\;at <strong>Mi Sabor Mexican Kitchen</strong>! There you will&nbsp\;join Glendora Chamber members\,&nbsp\;community leaders\, and more to network\, build your business\, and find out what is happing around Glendora.</span></span><br />\n<br />\n&nbsp\;</center>\n
LOCATION:1810 E Route 66 Glendora\, CA 91741
UID:e.2149.13194
SEQUENCE:3
DTSTAMP:20260420T160624Z
URL:https://business.glendora-chamber.org/events/details/the-lunch-net-13194
END:VEVENT

END:VCALENDAR
