BEGIN:VCALENDAR
VERSION:2.0
PRODID:-//ChamberMaster//Event Calendar 2.0//EN
METHOD:PUBLISH
X-PUBLISHED-TTL:P3D
REFRESH-INTERVAL:P3D
CALSCALE:GREGORIAN
BEGIN:VEVENT
DTSTART:20230608T183000Z
DTEND:20230608T200000Z
X-MICROSOFT-CDO-ALLDAYEVENT:FALSE
SUMMARY:The Lunch Net - June
DESCRIPTION:Please join us for our June Lunch Net at Marie Callender's! There you will join Glendora Chamber members\, community leaders\, and more to network\, build your business\, and discover what is happening around Glendora.
X-ALT-DESC;FMTTYPE=text/html:<center style="text-align: left\;"><span style="font-size:16px\;"><span style="color: rgb(0\, 0\, 0)\; font-family: verdana\;">Please join us for our <strong>June Lunch Net</strong>&nbsp\;at </span>Marie Callender&#39\;s!<span style="color: rgb(0\, 0\, 0)\; font-family: verdana\;">&nbsp\;There you will&nbsp\;join Glendora Chamber members\,&nbsp\;community leaders\, and more to network\, build your business\, and discover what is happening around Glendora.</span></span></center>\n
LOCATION:1175 E. Alosta Ave\, Azusa\, CA 91702
UID:e.2149.14413
SEQUENCE:3
DTSTAMP:20260422T083025Z
URL:https://business.glendora-chamber.org/events/details/the-lunch-net-june-14413
END:VEVENT

END:VCALENDAR
