BEGIN:VCALENDAR
VERSION:2.0
PRODID:-//ChamberMaster//Event Calendar 2.0//EN
METHOD:PUBLISH
X-PUBLISHED-TTL:P3D
REFRESH-INTERVAL:P3D
CALSCALE:GREGORIAN
BEGIN:VEVENT
DTSTART:20230128T193000Z
DTEND:20230129T030000Z
X-MICROSOFT-CDO-ALLDAYEVENT:FALSE
SUMMARY:TRU Bowl Superfood Bar Glendora Grand Opening
DESCRIPTION:Come to our Grand Opening January 28th at 11:30 am!!!  There will be giveaways\, prizes and more!  Hope to see you there!!!
X-ALT-DESC;FMTTYPE=text/html:Come to our Grand Opening January 28th at 11:30 am!!! &nbsp\;There will be giveaways\, prizes and more! &nbsp\;Hope to see you there!!!
LOCATION:1820 E Route 66 Glendora\, CA 91740
UID:e.2149.13233
SEQUENCE:3
DTSTAMP:20260420T175710Z
URL:https://business.glendora-chamber.org/events/details/tru-bowl-superfood-bar-glendora-grand-opening-13233
END:VEVENT

END:VCALENDAR
