BEGIN:VCALENDAR
VERSION:2.0
PRODID:-//ChamberMaster//Event Calendar 2.0//EN
METHOD:PUBLISH
X-PUBLISHED-TTL:P3D
REFRESH-INTERVAL:P3D
CALSCALE:GREGORIAN
BEGIN:VEVENT
DTSTART:20260428T170000Z
DTEND:20260428T190000Z
X-MICROSOFT-CDO-ALLDAYEVENT:FALSE
SUMMARY:Women of Business- Multi Chamber Mixer
DESCRIPTION:Join us for a memorable morning of connections\, networking\, and inspiration. We are so excited to be teaming up with:\n\nThe Pomona Chamber\n\nThe Rosemead Chamber\n\nThe Azusa Chamber\n\nThe San Dimas Chamber\n\nThe La Verne Chamber\n\n\n\nThis will be the room to be in + hear from Glendora's very own\, Marty Rodriguez\, and how she built a real estate empire from the ground up.\n\n\n\nBreakfast will be served!\n\n\n\nSponsored by:\n\nMarilyn Sparks- Farmers Insurance\n\nProminence Business & Wealth Management
X-ALT-DESC;FMTTYPE=text/html:Join us for a memorable morning of connections\, networking\, and inspiration. We are so excited to be teaming up with:<br />\nThe Pomona Chamber<br />\nThe Rosemead Chamber<br />\nThe Azusa Chamber<br />\nThe San Dimas Chamber<br />\nThe La Verne Chamber<br />\n<br />\nThis will be the room to be in + hear from Glendora&#39\;s very own\, Marty Rodriguez\, and how she built a real estate empire from the ground up.<br />\n<br />\nBreakfast will be served!<br />\n<br />\nSponsored by:<br />\nMarilyn Sparks- Farmers Insurance<br />\nProminence Business &amp\; Wealth Management
LOCATION:The Glendora Country Club 2400 Country Club Dr Please be mindful of the club's dress code. No jeans.
UID:e.2149.18453
SEQUENCE:3
DTSTAMP:20260421T123919Z
URL:https://business.glendora-chamber.org/events/details/women-of-business-multi-chamber-mixer-18453
END:VEVENT

END:VCALENDAR
